BEGIN:VCALENDAR
VERSION:2.0
PRODID:-//Matthew Jordan - ECPv5.14.0.2//NONSGML v1.0//EN
CALSCALE:GREGORIAN
METHOD:PUBLISH
X-WR-CALNAME:Matthew Jordan
X-ORIGINAL-URL:https://matthewjordan.com
X-WR-CALDESC:Events for Matthew Jordan
BEGIN:VTIMEZONE
TZID:America/Los_Angeles
BEGIN:DAYLIGHT
TZOFFSETFROM:-0800
TZOFFSETTO:-0700
TZNAME:PDT
DTSTART:20160313T100000
END:DAYLIGHT
BEGIN:STANDARD
TZOFFSETFROM:-0700
TZOFFSETTO:-0800
TZNAME:PST
DTSTART:20161106T090000
END:STANDARD
END:VTIMEZONE
BEGIN:VEVENT
DTSTART;TZID=America/Los_Angeles:20160303T223000
DTEND;TZID=America/Los_Angeles:20160303T223000
DTSTAMP:20260425T041855
CREATED:20160215T173649Z
LAST-MODIFIED:20160215T173649Z
UID:7697-1457044200-1457044200@matthewjordan.com
SUMMARY:Blind Dragon - Los Angeles\, CA
DESCRIPTION:Matt plays with the house band at The Blind Dragon in West Hollywood every Thursday night! 21+
URL:https://matthewjordan.com/event/blind-dragon-los-angeles-ca-2/
LOCATION:The Blind Dragon\, 9201 Sunset Blvd \, West Hollywood\, CA\, CA\, 90069\, United States
ATTACH;FMTTYPE=image/jpeg:https://matthewjordan.com/wp-content/uploads/2016/02/01_2015_BLIND_DRAGON-99.0.0.jpg
END:VEVENT
END:VCALENDAR