BEGIN:VCALENDAR
VERSION:2.0
PRODID:-//Matthew Jordan - ECPv5.14.0.2//NONSGML v1.0//EN
CALSCALE:GREGORIAN
METHOD:PUBLISH
X-WR-CALNAME:Matthew Jordan
X-ORIGINAL-URL:https://matthewjordan.com
X-WR-CALDESC:Events for Matthew Jordan
BEGIN:VTIMEZONE
TZID:America/Los_Angeles
BEGIN:DAYLIGHT
TZOFFSETFROM:-0800
TZOFFSETTO:-0700
TZNAME:PDT
DTSTART:20160313T100000
END:DAYLIGHT
BEGIN:STANDARD
TZOFFSETFROM:-0700
TZOFFSETTO:-0800
TZNAME:PST
DTSTART:20161106T090000
END:STANDARD
END:VTIMEZONE
BEGIN:VEVENT
DTSTART;TZID=America/Los_Angeles:20160325T180000
DTEND;TZID=America/Los_Angeles:20160325T200000
DTSTAMP:20260423T032512
CREATED:20160322T225740Z
LAST-MODIFIED:20160322T225803Z
UID:7709-1458928800-1458936000@matthewjordan.com
SUMMARY:Belmont - Los Angeles\, CA
DESCRIPTION:Playing two hours of covers at The Belmont from 6-8PM\, featuring Erik Himmel on guitar and Stephen Haaker on drums!
URL:https://matthewjordan.com/event/belmont-los-angeles-ca/
LOCATION:The Belmont\, 747 N. La Cienega\, Los Angeles\, CA\, 90069
ATTACH;FMTTYPE=image/jpeg:https://matthewjordan.com/wp-content/uploads/2016/02/antiquepiano-I-bought-this-stock-photo-a-while-ago-if-you-wanna-use-it-anywhere.jpg
END:VEVENT
END:VCALENDAR